BEGIN:VCALENDAR
VERSION:2.0
PRODID:-//Hamilton Humane - ECPv6.15.20//NONSGML v1.0//EN
CALSCALE:GREGORIAN
METHOD:PUBLISH
X-ORIGINAL-URL:https://www.hamiltonhumane.com
X-WR-CALDESC:Events for Hamilton Humane
REFRESH-INTERVAL;VALUE=DURATION:PT1H
X-Robots-Tag:noindex
X-PUBLISHED-TTL:PT1H
BEGIN:VTIMEZONE
TZID:America/Indiana/Indianapolis
BEGIN:DAYLIGHT
TZOFFSETFROM:-0500
TZOFFSETTO:-0400
TZNAME:EDT
DTSTART:20240310T070000
END:DAYLIGHT
BEGIN:STANDARD
TZOFFSETFROM:-0400
TZOFFSETTO:-0500
TZNAME:EST
DTSTART:20241103T060000
END:STANDARD
BEGIN:DAYLIGHT
TZOFFSETFROM:-0500
TZOFFSETTO:-0400
TZNAME:EDT
DTSTART:20250309T070000
END:DAYLIGHT
BEGIN:STANDARD
TZOFFSETFROM:-0400
TZOFFSETTO:-0500
TZNAME:EST
DTSTART:20251102T060000
END:STANDARD
BEGIN:DAYLIGHT
TZOFFSETFROM:-0500
TZOFFSETTO:-0400
TZNAME:EDT
DTSTART:20260308T070000
END:DAYLIGHT
BEGIN:STANDARD
TZOFFSETFROM:-0400
TZOFFSETTO:-0500
TZNAME:EST
DTSTART:20261101T060000
END:STANDARD
END:VTIMEZONE
BEGIN:VEVENT
DTSTART;TZID=America/Indiana/Indianapolis:20251002T160000
DTEND;TZID=America/Indiana/Indianapolis:20251002T190000
DTSTAMP:20260423T100224
CREATED:20250923T161953Z
LAST-MODIFIED:20250923T162214Z
UID:10647-1759420800-1759431600@www.hamiltonhumane.com
SUMMARY:J.C. Hart presents Barktober
DESCRIPTION:« All Events\n 				\n				\n				\n				\n					This event has passed. \n				\n				\n				\n				\n					\n	Pucker Up For Pitties				\n				\n		\n		\n				\n				\n							\n							\n											\n													\n										Sunday\, March 29\, 2026\n									\n								\n											\n													\n										1:00PM - 3:00PM\n									\n								\n											\n													\n										Metazoa Brewery: 140 South College Ave.\, Indianapolis\, IN 46202\n									\n						\n						\n				\n				\n				\n									\nCalling all animal lovers\, “pit bull” enthusiasts\, and supporters of a great cause! It’s Pit Bull Education Month at the Humane Society for Hamilton County\, and this weekend only\, you have the chance to show some love to two of our tiny house hippos in training.\n\n\n \n\n\nFor one $10 donation\, you can join in the fun and receive a big kiss from our two very special guests. Dash and Dottie\, our eight-week-old “pit bull” brother and sister\, can’t wait to meet you this weekend to give you all their love. We hope to see you there! \n								\n				\n				\n				\n					\n				\n				\n	\n	Metazoa Brewing Company\n	\n	\n\n140 South College Avenue\n	\n		\n		Indianapolis\,\n\n	IN\n\n	46202\n\n	United States\n\n\n\n\n	+ Google Map \n\n\n	\n					\n						\n	 \n\n\n	\n	 \n\n\n\n	\n\n\n\n		\n	\n				\n				\n				\n		\n				\n				\n																														\n				\n				\n				\n				\n						\n					\n			\n						\n				\n					\n	\n		\n\n	\n	Add to calendar	\n		\n	\n\n		\n			\n									\n	Google Calendar\n\n									\n	iCalendar\n\n									\n	Outlook 365\n\n									\n	Outlook Live\n\n							\n		\n\n		\n	\n\n				\n				\n					\n		\n					\n		\n				\n						\n					\n			\n						\n				\n					\n	\n		\n\n				Furry Fracas Pickleball Tournament	\n\n\n		\n	\n		Wine Wags & Whiskers
URL:https://www.hamiltonhumane.com/event/j-c-hart-presents-barktober
LOCATION:District at Saxony Dog Park\, 13110 Baden Dr\, Fishers\, IN\, 46038\, United States
END:VEVENT
BEGIN:VEVENT
DTSTART;TZID=America/Indiana/Indianapolis:20251004T083000
DTEND;TZID=America/Indiana/Indianapolis:20251004T150000
DTSTAMP:20260423T100224
CREATED:20250825T192537Z
LAST-MODIFIED:20250930T213916Z
UID:10532-1759566600-1759590000@www.hamiltonhumane.com
SUMMARY:Pets Healing Vets Benefit Ride
DESCRIPTION:« All Events\n 				\n				\n				\n				\n					This event has passed. \n				\n				\n				\n				\n					\n	Pucker Up For Pitties				\n				\n		\n		\n				\n				\n							\n							\n											\n													\n										Sunday\, March 29\, 2026\n									\n								\n											\n													\n										1:00PM - 3:00PM\n									\n								\n											\n													\n										Metazoa Brewery: 140 South College Ave.\, Indianapolis\, IN 46202\n									\n						\n						\n				\n				\n				\n									\nCalling all animal lovers\, “pit bull” enthusiasts\, and supporters of a great cause! It’s Pit Bull Education Month at the Humane Society for Hamilton County\, and this weekend only\, you have the chance to show some love to two of our tiny house hippos in training.\n\n\n \n\n\nFor one $10 donation\, you can join in the fun and receive a big kiss from our two very special guests. Dash and Dottie\, our eight-week-old “pit bull” brother and sister\, can’t wait to meet you this weekend to give you all their love. We hope to see you there! \n								\n				\n				\n				\n					\n				\n				\n	\n	Metazoa Brewing Company\n	\n	\n\n140 South College Avenue\n	\n		\n		Indianapolis\,\n\n	IN\n\n	46202\n\n	United States\n\n\n\n\n	+ Google Map \n\n\n	\n					\n						\n	 \n\n\n	\n	 \n\n\n\n	\n\n\n\n		\n	\n				\n				\n				\n		\n				\n				\n																														\n				\n				\n				\n				\n						\n					\n			\n						\n				\n					\n	\n		\n\n	\n	Add to calendar	\n		\n	\n\n		\n			\n									\n	Google Calendar\n\n									\n	iCalendar\n\n									\n	Outlook 365\n\n									\n	Outlook Live\n\n							\n		\n\n		\n	\n\n				\n				\n					\n		\n					\n		\n				\n						\n					\n			\n						\n				\n					\n	\n		\n\n				Furry Fracas Pickleball Tournament	\n\n\n		\n	\n		Wine Wags & Whiskers
URL:https://www.hamiltonhumane.com/event/pets-healing-vets-benefit-ride
LOCATION:Pendleton American Legion Post 117\, 611 W State St\, Pendleton\, IN\, 46064\, United States
ATTACH;FMTTYPE=image/jpeg:https://www.hamiltonhumane.com/wp-content/uploads/2025/08/IMG_1280.jpg
END:VEVENT
BEGIN:VEVENT
DTSTART;TZID=America/Indiana/Indianapolis:20251004T110000
DTEND;TZID=America/Indiana/Indianapolis:20251004T140000
DTSTAMP:20260423T100224
CREATED:20250911T151039Z
LAST-MODIFIED:20250911T152253Z
UID:10610-1759575600-1759586400@www.hamiltonhumane.com
SUMMARY:Love Them for Life Pet Adoption
DESCRIPTION:« All Events\n 				\n				\n				\n				\n					This event has passed. \n				\n				\n				\n				\n					\n	Pucker Up For Pitties				\n				\n		\n		\n				\n				\n							\n							\n											\n													\n										Sunday\, March 29\, 2026\n									\n								\n											\n													\n										1:00PM - 3:00PM\n									\n								\n											\n													\n										Metazoa Brewery: 140 South College Ave.\, Indianapolis\, IN 46202\n									\n						\n						\n				\n				\n				\n									\nCalling all animal lovers\, “pit bull” enthusiasts\, and supporters of a great cause! It’s Pit Bull Education Month at the Humane Society for Hamilton County\, and this weekend only\, you have the chance to show some love to two of our tiny house hippos in training.\n\n\n \n\n\nFor one $10 donation\, you can join in the fun and receive a big kiss from our two very special guests. Dash and Dottie\, our eight-week-old “pit bull” brother and sister\, can’t wait to meet you this weekend to give you all their love. We hope to see you there! \n								\n				\n				\n				\n					\n				\n				\n	\n	Metazoa Brewing Company\n	\n	\n\n140 South College Avenue\n	\n		\n		Indianapolis\,\n\n	IN\n\n	46202\n\n	United States\n\n\n\n\n	+ Google Map \n\n\n	\n					\n						\n	 \n\n\n	\n	 \n\n\n\n	\n\n\n\n		\n	\n				\n				\n				\n		\n				\n				\n																														\n				\n				\n				\n				\n						\n					\n			\n						\n				\n					\n	\n		\n\n	\n	Add to calendar	\n		\n	\n\n		\n			\n									\n	Google Calendar\n\n									\n	iCalendar\n\n									\n	Outlook 365\n\n									\n	Outlook Live\n\n							\n		\n\n		\n	\n\n				\n				\n					\n		\n					\n		\n				\n						\n					\n			\n						\n				\n					\n	\n		\n\n				Furry Fracas Pickleball Tournament	\n\n\n		\n	\n		Wine Wags & Whiskers
URL:https://www.hamiltonhumane.com/event/love-them-for-life-pet-adoption
LOCATION:Tom Wood Subaru\, 3300 E 96th St.\, Indianapolis\, IN\, 46240\, United States
ATTACH;FMTTYPE=image/png:https://www.hamiltonhumane.com/wp-content/uploads/2025/09/Love-them-for-life-banner.png
END:VEVENT
BEGIN:VEVENT
DTSTART;TZID=America/Indiana/Indianapolis:20251011T110000
DTEND;TZID=America/Indiana/Indianapolis:20251011T140000
DTSTAMP:20260423T100224
CREATED:20250422T160226Z
LAST-MODIFIED:20250512T152003Z
UID:10087-1760180400-1760191200@www.hamiltonhumane.com
SUMMARY:Barktoberfest
DESCRIPTION:« All Events\n 				\n				\n				\n				\n					This event has passed. \n				\n				\n				\n				\n					\n	Pucker Up For Pitties				\n				\n		\n		\n				\n				\n							\n							\n											\n													\n										Sunday\, March 29\, 2026\n									\n								\n											\n													\n										1:00PM - 3:00PM\n									\n								\n											\n													\n										Metazoa Brewery: 140 South College Ave.\, Indianapolis\, IN 46202\n									\n						\n						\n				\n				\n				\n									\nCalling all animal lovers\, “pit bull” enthusiasts\, and supporters of a great cause! It’s Pit Bull Education Month at the Humane Society for Hamilton County\, and this weekend only\, you have the chance to show some love to two of our tiny house hippos in training.\n\n\n \n\n\nFor one $10 donation\, you can join in the fun and receive a big kiss from our two very special guests. Dash and Dottie\, our eight-week-old “pit bull” brother and sister\, can’t wait to meet you this weekend to give you all their love. We hope to see you there! \n								\n				\n				\n				\n					\n				\n				\n	\n	Metazoa Brewing Company\n	\n	\n\n140 South College Avenue\n	\n		\n		Indianapolis\,\n\n	IN\n\n	46202\n\n	United States\n\n\n\n\n	+ Google Map \n\n\n	\n					\n						\n	 \n\n\n	\n	 \n\n\n\n	\n\n\n\n		\n	\n				\n				\n				\n		\n				\n				\n																														\n				\n				\n				\n				\n						\n					\n			\n						\n				\n					\n	\n		\n\n	\n	Add to calendar	\n		\n	\n\n		\n			\n									\n	Google Calendar\n\n									\n	iCalendar\n\n									\n	Outlook 365\n\n									\n	Outlook Live\n\n							\n		\n\n		\n	\n\n				\n				\n					\n		\n					\n		\n				\n						\n					\n			\n						\n				\n					\n	\n		\n\n				Furry Fracas Pickleball Tournament	\n\n\n		\n	\n		Wine Wags & Whiskers
URL:https://www.hamiltonhumane.com/event/barktoberfest2025
LOCATION:Asa Bales Park\, 205 West Hoover Street\, Westfield\, IN\, 46074\, United States
END:VEVENT
END:VCALENDAR